BEGIN:VCALENDAR
VERSION:2.0
PRODID:-//hacksw/handcal//NONSGML v1.0//EN
BEGIN:VEVENT
SUMMARY:STAGE ECOLE ARBITRAGE
UID:5999768d-ab38-4d11-8b75-a843e16a0372
DTSTART:20260428T220000Z
DTEND:20260429T220000Z
LOCATION:Localisation Maison des Arts Martiaux, Chemin Cassaing - 31500 - Toulouse  
CATEGORIES:Sportif
STATUS:
URL;VALUE=URI:https://www.atmospherejudotoulouse.fr/evenements/2026/04/29/stage-ecole-arbitrage-2443654
END:VEVENT
END:VCALENDAR
