BEGIN:VCALENDAR
VERSION:2.0
PRODID:-//hacksw/handcal//NONSGML v1.0//EN
BEGIN:VEVENT
SUMMARY:MASTER INTERNATIONAL DES VIGNOBLES DU MEDOC ET DU BORDELAIS LABEL A VETERANS
UID:080d6023-9d98-4cbc-a30e-9b68c3d1d39f
DTSTART:20260228T230000Z
DTEND:20260301T230000Z
LOCATION:Localisation DOJO TEDDY RINER - 153 route de Bordeaux - 33310 - Lormont  
CATEGORIES:Sportif
STATUS:
DESCRIPTION:<p><span style="font-size:11pt;"><span><span
 style="font-family:Calibri, 'sans-serif';"><span
 style="font-size:12pt;"><span style="font-family:'Times New Roman',
 serif;"><a
 href="https://dev.licences-ffjudo.com/FFJDA_events_Docs/118739_Affiche%20(1).pdf"
 style="color:#0000FF;text-decoration:underline;" target="_blank"
 rel="noreferrer noopener">PLAQUETTE</a>
 </span></span></span></span></span></p>
 
 <p><span
 style="font-size:11pt;"><span><span style="font-family:Calibri,
 'sans-serif';"><span class="MsoHyperlink"
 style="color:#0000FF;"><span style="text-decoration:underline;"><span
 style="font-size:12pt;"><span style="font-family:'Times New Roman',
 serif;"><a
 href="https://judograndest.ffjudo.com/evenement/master-international-des-vignobles-du-medoc-et-du-bordelais-label-a/444"
 style="color:#0000FF;text-decoration:underline;" target="_blank"
 rel="noreferrer noopener">AUTRES INFOS</a>
 </span></span></span></span></span></span></span></p>
URL;VALUE=URI:https://www.atmospherejudotoulouse.fr/evenements/2026/03/01/master-international-des-vignobles-du-medoc-et-du-bordelais-label-a-veterans-2296589
END:VEVENT
END:VCALENDAR
