BEGIN:VCALENDAR
VERSION:2.0
PRODID:-//hacksw/handcal//NONSGML v1.0//EN
BEGIN:VEVENT
SUMMARY:Championnat de France Cadets 1D - Judokas nes entre 2009 et 2007
UID:962fb97b-14f8-4d4c-a9fe-40bbed21e397
DTSTART:20240322T230000Z
DTEND:20240324T230000Z
LOCATION:Localisation   
CATEGORIES:Sportif
STATUS:
URL;VALUE=URI:https://www.atmospherejudotoulouse.fr/evenements/2024/03/23/championnat-de-france-cadets-1d-judokas-nes-entre-2009-et-2007-2012363
END:VEVENT
END:VCALENDAR
